Workbook

Sheet लॉग
A1: ख़र्च ट्रैकर
A2: abacurio.com का मुफ़्त टेम्पलेट
A3: पीले सेल भरें। बाक़ी सब का हिसाब अपने-आप हो जाता है। उदाहरण के मान भरे हुए हैं — इन्हें अपने आँकड़ों से बदलें।
A5: तारीख़ | B5: विवरण | C5: श्रेणी | D5: रकम | E5: भुगतान का तरीका | F5: नोट
A6: 46296 | B6: हफ़्ते का राशन | C6: राशन | D6: 85.4
A7: 46297 | B7: बस पास | C7: आना-जाना | D7: 45
A8: 46298 | B8: दोस्तों के साथ डिनर | C8: बाहर खाना | D8: 38.5
A9: 46300 | B9: बिजली का बिल | C9: बिजली-पानी | D9: 72.1
A10: 46301 | B10: स्ट्रीमिंग | C10: सब्सक्रिप्शन | D10: 11.99

Sheet सारांश
A1: ख़र्च ट्रैकर — सारांश
A2: abacurio.com का मुफ़्त टेम्पलेट
A3: पीले सेल भरें। बाक़ी सब का हिसाब अपने-आप हो जाता है। उदाहरण के मान भरे हुए हैं — इन्हें अपने आँकड़ों से बदलें।
A5: सारांश का साल | B5: 2026
A7: श्रेणी | B7: जन | C7: फ़र | D7: मार्च | E7: अप्रैल | F7: मई | G7: जून | H7: जुल | I7: अग | J7: सित | K7: अक्टू | L7: नव | M7: दिस | N7: कुल | O7: कुल का %
A8: =IF('श्रेणियाँ'!A2="","",'श्रेणियाँ'!A2) | B8: =IF($A8="","",SUMIFS('लॉग'!$D$6:$D$505,'लॉग'!$C$6:$C$505,$A8,'लॉग'!$A$6:$A$505,">="&DATE($B$5,1,1),'लॉग'!$A$6:$A$505,"<"&DATE($B$5+0,2,1))) | C8: =IF($A8="","",SUMIFS('लॉग'!$D$6:$D$505,'लॉग'!$C$6:$C$505,$A8,'लॉग'!$A$6:$A$505,">="&DATE($B$5,2,1),'लॉग'!$A$6:$A$505,"<"&DATE($B$5+0,3,1))) | D8: =IF($A8="","",SUMIFS('लॉग'!$D$6:$D$505,'लॉग'!$C$6:$C$505,$A8,'लॉग'!$A$6:$A$505,">="&DATE($B$5,3,1),'लॉग'!$A$6:$A$505,"<"&DATE($B$5+0,4,1))) | E8: =IF($A8="","",SUMIFS('लॉग'!$D$6:$D$505,'लॉग'!$C$6:$C$505,$A8,'लॉग'!$A$6:$A$505,">="&DATE($B$5,4,1),'लॉग'!$A$6:$A$505,"<"&DATE($B$5+0,5,1))) | F8: =IF($A8="","",SUMIFS('लॉग'!$D$6:$D$505,'लॉग'!$C$6:$C$505,$A8,'लॉग'!$A$6:$A$505,">="&DATE($B$5,5,1),'लॉग'!$A$6:$A$505,"<"&DATE($B$5+0,6,1))) | G8: =IF($A8="","",SUMIFS('लॉग'!$D$6:$D$505,'लॉग'!$C$6:$C$505,$A8,'लॉग'!$A$6:$A$505,">="&DATE($B$5,6,1),'लॉग'!$A$6:$A$505,"<"&DATE($B$5+0,7,1))) | H8: =IF($A8="","",SUMIFS('लॉग'!$D$6:$D$505,'लॉग'!$C$6:$C$505,$A8,'लॉग'!$A$6:$A$505,">="&DATE($B$5,7,1),'लॉग'!$A$6:$A$505,"<"&DATE($B$5+0,8,1))) | I8: =IF($A8="","",SUMIFS('लॉग'!$D$6:$D$505,'लॉग'!$C$6:$C$505,$A8,'लॉग'!$A$6:$A$505,">="&DATE($B$5,8,1),'लॉग'!$A$6:$A$505,"<"&DATE($B$5+0,9,1))) | J8: =IF($A8="","",SUMIFS('लॉग'!$D$6:$D$505,'लॉग'!$C$6:$C$505,$A8,'लॉग'!$A$6:$A$505,">="&DATE($B$5,9,1),'लॉग'!$A$6:$A$505,"<"&DATE($B$5+0,10,1))) | K8: =IF($A8="","",SUMIFS('लॉग'!$D$6:$D$505,'लॉग'!$C$6:$C$505,$A8,'लॉग'!$A$6:$A$505,">="&DATE($B$5,10,1),'लॉग'!$A$6:$A$505,"<"&DATE($B$5+0,11,1))) | L8: =IF($A8="","",SUMIFS('लॉग'!$D$6:$D$505,'लॉग'!$C$6:$C$505,$A8,'लॉग'!$A$6:$A$505,">="&DATE($B$5,11,1),'लॉग'!$A$6:$A$505,"<"&DATE($B$5+0,12,1))) | M8: =IF($A8="","",SUMIFS('लॉग'!$D$6:$D$505,'लॉग'!$C$6:$C$505,$A8,'लॉग'!$A$6:$A$505,">="&DATE($B$5,12,1),'लॉग'!$A$6:$A$505,"<"&DATE($B$5+1,1,1))) | N8: =IF($A8="","",SUM(B8:M8)) | O8: =IF(OR($A8="",$N$48=0),"",N8/$N$48)
A9: =IF('श्रेणियाँ'!A3="","",'श्रेणियाँ'!A3) | B9: =IF($A9="","",SUMIFS('लॉग'!$D$6:$D$505,'लॉग'!$C$6:$C$505,$A9,'लॉग'!$A$6:$A$505,">="&DATE($B$5,1,1),'लॉग'!$A$6:$A$505,"<"&DATE($B$5+0,2,1))) | C9: =IF($A9="","",SUMIFS('लॉग'!$D$6:$D$505,'लॉग'!$C$6:$C$505,$A9,'लॉग'!$A$6:$A$505,">="&DATE($B$5,2,1),'लॉग'!$A$6:$A$505,"<"&DATE($B$5+0,3,1))) | D9: =IF($A9="","",SUMIFS('लॉग'!$D$6:$D$505,'लॉग'!$C$6:$C$505,$A9,'लॉग'!$A$6:$A$505,">="&DATE($B$5,3,1),'लॉग'!$A$6:$A$505,"<"&DATE($B$5+0,4,1))) | E9: =IF($A9="","",SUMIFS('लॉग'!$D$6:$D$505,'लॉग'!$C$6:$C$505,$A9,'लॉग'!$A$6:$A$505,">="&DATE($B$5,4,1),'लॉग'!$A$6:$A$505,"<"&DATE($B$5+0,5,1))) | F9: =IF($A9="","",SUMIFS('लॉग'!$D$6:$D$505,'लॉग'!$C$6:$C$505,$A9,'लॉग'!$A$6:$A$505,">="&DATE($B$5,5,1),'लॉग'!$A$6:$A$505,"<"&DATE($B$5+0,6,1))) | G9: =IF($A9="","",SUMIFS('लॉग'!$D$6:$D$505,'लॉग'!$C$6:$C$505,$A9,'लॉग'!$A$6:$A$505,">="&DATE($B$5,6,1),'लॉग'!$A$6:$A$505,"<"&DATE($B$5+0,7,1))) | H9: =IF($A9="","",SUMIFS('लॉग'!$D$6:$D$505,'लॉग'!$C$6:$C$505,$A9,'लॉग'!$A$6:$A$505,">="&DATE($B$5,7,1),'लॉग'!$A$6:$A$505,"<"&DATE($B$5+0,8,1))) | I9: =IF($A9="","",SUMIFS('लॉग'!$D$6:$D$505,'लॉग'!$C$6:$C$505,$A9,'लॉग'!$A$6:$A$505,">="&DATE($B$5,8,1),'लॉग'!$A$6:$A$505,"<"&DATE($B$5+0,9,1))) | J9: =IF($A9="","",SUMIFS('लॉग'!$D$6:$D$505,'लॉग'!$C$6:$C$505,$A9,'लॉग'!$A$6:$A$505,">="&DATE($B$5,9,1),'लॉग'!$A$6:$A$505,"<"&DATE($B$5+0,10,1))) | K9: =IF($A9="","",SUMIFS('लॉग'!$D$6:$D$505,'लॉग'!$C$6:$C$505,$A9,'लॉग'!$A$6:$A$505,">="&DATE($B$5,10,1),'लॉग'!$A$6:$A$505,"<"&DATE($B$5+0,11,1))) | L9: =IF($A9="","",SUMIFS('लॉग'!$D$6:$D$505,'लॉग'!$C$6:$C$505,$A9,'लॉग'!$A$6:$A$505,">="&DATE($B$5,11,1),'लॉग'!$A$6:$A$505,"<"&DATE($B$5+0,12,1))) | M9: =IF($A9="","",SUMIFS('लॉग'!$D$6:$D$505,'लॉग'!$C$6:$C$505,$A9,'लॉग'!$A$6:$A$505,">="&DATE($B$5,12,1),'लॉग'!$A$6:$A$505,"<"&DATE($B$5+1,1,1))) | N9: =IF($A9="","",SUM(B9:M9)) | O9: =IF(OR($A9="",$N$48=0),"",N9/$N$48)
A10: =IF('श्रेणियाँ'!A4="","",'श्रेणियाँ'!A4) | B10: =IF($A10="","",SUMIFS('लॉग'!$D$6:$D$505,'लॉग'!$C$6:$C$505,$A10,'लॉग'!$A$6:$A$505,">="&DATE($B$5,1,1),'लॉग'!$A$6:$A$505,"<"&DATE($B$5+0,2,1))) | C10: =IF($A10="","",SUMIFS('लॉग'!$D$6:$D$505,'लॉग'!$C$6:$C$505,$A10,'लॉग'!$A$6:$A$505,">="&DATE($B$5,2,1),'लॉग'!$A$6:$A$505,"<"&DATE($B$5+0,3,1))) | D10: =IF($A10="","",SUMIFS('लॉग'!$D$6:$D$505,'लॉग'!$C$6:$C$505,$A10,'लॉग'!$A$6:$A$505,">="&DATE($B$5,3,1),'लॉग'!$A$6:$A$505,"<"&DATE($B$5+0,4,1))) | E10: =IF($A10="","",SUMIFS('लॉग'!$D$6:$D$505,'लॉग'!$C$6:$C$505,$A10,'लॉग'!$A$6:$A$505,">="&DATE($B$5,4,1),'लॉग'!$A$6:$A$505,"<"&DATE($B$5+0,5,1))) | F10: =IF($A10="","",SUMIFS('लॉग'!$D$6:$D$505,'लॉग'!$C$6:$C$505,$A10,'लॉग'!$A$6:$A$505,">="&DATE($B$5,5,1),'लॉग'!$A$6:$A$505,"<"&DATE($B$5+0,6,1))) | G10: =IF($A10="","",SUMIFS('लॉग'!$D$6:$D$505,'लॉग'!$C$6:$C$505,$A10,'लॉग'!$A$6:$A$505,">="&DATE($B$5,6,1),'लॉग'!$A$6:$A$505,"<"&DATE($B$5+0,7,1))) | H10: =IF($A10="","",SUMIFS('लॉग'!$D$6:$D$505,'लॉग'!$C$6:$C$505,$A10,'लॉग'!$A$6:$A$505,">="&DATE($B$5,7,1),'लॉग'!$A$6:$A$505,"<"&DATE($B$5+0,8,1))) | I10: =IF($A10="","",SUMIFS('लॉग'!$D$6:$D$505,'लॉग'!$C$6:$C$505,$A10,'लॉग'!$A$6:$A$505,">="&DATE($B$5,8,1),'लॉग'!$A$6:$A$505,"<"&DATE($B$5+0,9,1))) | J10: =IF($A10="","",SUMIFS('लॉग'!$D$6:$D$505,'लॉग'!$C$6:$C$505,$A10,'लॉग'!$A$6:$A$505,">="&DATE($B$5,9,1),'लॉग'!$A$6:$A$505,"<"&DATE($B$5+0,10,1))) | K10: =IF($A10="","",SUMIFS('लॉग'!$D$6:$D$505,'लॉग'!$C$6:$C$505,$A10,'लॉग'!$A$6:$A$505,">="&DATE($B$5,10,1),'लॉग'!$A$6:$A$505,"<"&DATE($B$5+0,11,1))) | L10: =IF($A10="","",SUMIFS('लॉग'!$D$6:$D$505,'लॉग'!$C$6:$C$505,$A10,'लॉग'!$A$6:$A$505,">="&DATE($B$5,11,1),'लॉग'!$A$6:$A$505,"<"&DATE($B$5+0,12,1))) | M10: =IF($A10="","",SUMIFS('लॉग'!$D$6:$D$505,'लॉग'!$C$6:$C$505,$A10,'लॉग'!$A$6:$A$505,">="&DATE($B$5,12,1),'लॉग'!$A$6:$A$505,"<"&DATE($B$5+1,1,1))) | N10: =IF($A10="","",SUM(B10:M10)) | O10: =IF(OR($A10="",$N$48=0),"",N10/$N$48)
A11: =IF('श्रेणियाँ'!A5="","",'श्रेणियाँ'!A5) | B11: =IF($A11="","",SUMIFS('लॉग'!$D$6:$D$505,'लॉग'!$C$6:$C$505,$A11,'लॉग'!$A$6:$A$505,">="&DATE($B$5,1,1),'लॉग'!$A$6:$A$505,"<"&DATE($B$5+0,2,1))) | C11: =IF($A11="","",SUMIFS('लॉग'!$D$6:$D$505,'लॉग'!$C$6:$C$505,$A11,'लॉग'!$A$6:$A$505,">="&DATE($B$5,2,1),'लॉग'!$A$6:$A$505,"<"&DATE($B$5+0,3,1))) | D11: =IF($A11="","",SUMIFS('लॉग'!$D$6:$D$505,'लॉग'!$C$6:$C$505,$A11,'लॉग'!$A$6:$A$505,">="&DATE($B$5,3,1),'लॉग'!$A$6:$A$505,"<"&DATE($B$5+0,4,1))) | E11: =IF($A11="","",SUMIFS('लॉग'!$D$6:$D$505,'लॉग'!$C$6:$C$505,$A11,'लॉग'!$A$6:$A$505,">="&DATE($B$5,4,1),'लॉग'!$A$6:$A$505,"<"&DATE($B$5+0,5,1))) | F11: =IF($A11="","",SUMIFS('लॉग'!$D$6:$D$505,'लॉग'!$C$6:$C$505,$A11,'लॉग'!$A$6:$A$505,">="&DATE($B$5,5,1),'लॉग'!$A$6:$A$505,"<"&DATE($B$5+0,6,1))) | G11: =IF($A11="","",SUMIFS('लॉग'!$D$6:$D$505,'लॉग'!$C$6:$C$505,$A11,'लॉग'!$A$6:$A$505,">="&DATE($B$5,6,1),'लॉग'!$A$6:$A$505,"<"&DATE($B$5+0,7,1))) | H11: =IF($A11="","",SUMIFS('लॉग'!$D$6:$D$505,'लॉग'!$C$6:$C$505,$A11,'लॉग'!$A$6:$A$505,">="&DATE($B$5,7,1),'लॉग'!$A$6:$A$505,"<"&DATE($B$5+0,8,1))) | I11: =IF($A11="","",SUMIFS('लॉग'!$D$6:$D$505,'लॉग'!$C$6:$C$505,$A11,'लॉग'!$A$6:$A$505,">="&DATE($B$5,8,1),'लॉग'!$A$6:$A$505,"<"&DATE($B$5+0,9,1))) | J11: =IF($A11="","",SUMIFS('लॉग'!$D$6:$D$505,'लॉग'!$C$6:$C$505,$A11,'लॉग'!$A$6:$A$505,">="&DATE($B$5,9,1),'लॉग'!$A$6:$A$505,"<"&DATE($B$5+0,10,1))) | K11: =IF($A11="","",SUMIFS('लॉग'!$D$6:$D$505,'लॉग'!$C$6:$C$505,$A11,'लॉग'!$A$6:$A$505,">="&DATE($B$5,10,1),'लॉग'!$A$6:$A$505,"<"&DATE($B$5+0,11,1))) | L11: =IF($A11="","",SUMIFS('लॉग'!$D$6:$D$505,'लॉग'!$C$6:$C$505,$A11,'लॉग'!$A$6:$A$505,">="&DATE($B$5,11,1),'लॉग'!$A$6:$A$505,"<"&DATE($B$5+0,12,1))) | M11: =IF($A11="","",SUMIFS('लॉग'!$D$6:$D$505,'लॉग'!$C$6:$C$505,$A11,'लॉग'!$A$6:$A$505,">="&DATE($B$5,12,1),'लॉग'!$A$6:$A$505,"<"&DATE($B$5+1,1,1))) | N11: =IF($A11="","",SUM(B11:M11)) | O11: =IF(OR($A11="",$N$48=0),"",N11/$N$48)
A12: =IF('श्रेणियाँ'!A6="","",'श्रेणियाँ'!A6) | B12: =IF($A12="","",SUMIFS('लॉग'!$D$6:$D$505,'लॉग'!$C$6:$C$505,$A12,'लॉग'!$A$6:$A$505,">="&DATE($B$5,1,1),'लॉग'!$A$6:$A$505,"<"&DATE($B$5+0,2,1))) | C12: =IF($A12="","",SUMIFS('लॉग'!$D$6:$D$505,'लॉग'!$C$6:$C$505,$A12,'लॉग'!$A$6:$A$505,">="&DATE($B$5,2,1),'लॉग'!$A$6:$A$505,"<"&DATE($B$5+0,3,1))) | D12: =IF($A12="","",SUMIFS('लॉग'!$D$6:$D$505,'लॉग'!$C$6:$C$505,$A12,'लॉग'!$A$6:$A$505,">="&DATE($B$5,3,1),'लॉग'!$A$6:$A$505,"<"&DATE($B$5+0,4,1))) | E12: =IF($A12="","",SUMIFS('लॉग'!$D$6:$D$505,'लॉग'!$C$6:$C$505,$A12,'लॉग'!$A$6:$A$505,">="&DATE($B$5,4,1),'लॉग'!$A$6:$A$505,"<"&DATE($B$5+0,5,1))) | F12: =IF($A12="","",SUMIFS('लॉग'!$D$6:$D$505,'लॉग'!$C$6:$C$505,$A12,'लॉग'!$A$6:$A$505,">="&DATE($B$5,5,1),'लॉग'!$A$6:$A$505,"<"&DATE($B$5+0,6,1))) | G12: =IF($A12="","",SUMIFS('लॉग'!$D$6:$D$505,'लॉग'!$C$6:$C$505,$A12,'लॉग'!$A$6:$A$505,">="&DATE($B$5,6,1),'लॉग'!$A$6:$A$505,"<"&DATE($B$5+0,7,1))) | H12: =IF($A12="","",SUMIFS('लॉग'!$D$6:$D$505,'लॉग'!$C$6:$C$505,$A12,'लॉग'!$A$6:$A$505,">="&DATE($B$5,7,1),'लॉग'!$A$6:$A$505,"<"&DATE($B$5+0,8,1))) | I12: =IF($A12="","",SUMIFS('लॉग'!$D$6:$D$505,'लॉग'!$C$6:$C$505,$A12,'लॉग'!$A$6:$A$505,">="&DATE($B$5,8,1),'लॉग'!$A$6:$A$505,"<"&DATE($B$5+0,9,1))) | J12: =IF($A12="","",SUMIFS('लॉग'!$D$6:$D$505,'लॉग'!$C$6:$C$505,$A12,'लॉग'!$A$6:$A$505,">="&DATE($B$5,9,1),'लॉग'!$A$6:$A$505,"<"&DATE($B$5+0,10,1))) | K12: =IF($A12="","",SUMIFS('लॉग'!$D$6:$D$505,'लॉग'!$C$6:$C$505,$A12,'लॉग'!$A$6:$A$505,">="&DATE($B$5,10,1),'लॉग'!$A$6:$A$505,"<"&DATE($B$5+0,11,1))) | L12: =IF($A12="","",SUMIFS('लॉग'!$D$6:$D$505,'लॉग'!$C$6:$C$505,$A12,'लॉग'!$A$6:$A$505,">="&DATE($B$5,11,1),'लॉग'!$A$6:$A$505,"<"&DATE($B$5+0,12,1))) | M12: =IF($A12="","",SUMIFS('लॉग'!$D$6:$D$505,'लॉग'!$C$6:$C$505,$A12,'लॉग'!$A$6:$A$505,">="&DATE($B$5,12,1),'लॉग'!$A$6:$A$505,"<"&DATE($B$5+1,1,1))) | N12: =IF($A12="","",SUM(B12:M12)) | O12: =IF(OR($A12="",$N$48=0),"",N12/$N$48)
A13: =IF('श्रेणियाँ'!A7="","",'श्रेणियाँ'!A7) | B13: =IF($A13="","",SUMIFS('लॉग'!$D$6:$D$505,'लॉग'!$C$6:$C$505,$A13,'लॉग'!$A$6:$A$505,">="&DATE($B$5,1,1),'लॉग'!$A$6:$A$505,"<"&DATE($B$5+0,2,1))) | C13: =IF($A13="","",SUMIFS('लॉग'!$D$6:$D$505,'लॉग'!$C$6:$C$505,$A13,'लॉग'!$A$6:$A$505,">="&DATE($B$5,2,1),'लॉग'!$A$6:$A$505,"<"&DATE($B$5+0,3,1))) | D13: =IF($A13="","",SUMIFS('लॉग'!$D$6:$D$505,'लॉग'!$C$6:$C$505,$A13,'लॉग'!$A$6:$A$505,">="&DATE($B$5,3,1),'लॉग'!$A$6:$A$505,"<"&DATE($B$5+0,4,1))) | E13: =IF($A13="","",SUMIFS('लॉग'!$D$6:$D$505,'लॉग'!$C$6:$C$505,$A13,'लॉग'!$A$6:$A$505,">="&DATE($B$5,4,1),'लॉग'!$A$6:$A$505,"<"&DATE($B$5+0,5,1))) | F13: =IF($A13="","",SUMIFS('लॉग'!$D$6:$D$505,'लॉग'!$C$6:$C$505,$A13,'लॉग'!$A$6:$A$505,">="&DATE($B$5,5,1),'लॉग'!$A$6:$A$505,"<"&DATE($B$5+0,6,1))) | G13: =IF($A13="","",SUMIFS('लॉग'!$D$6:$D$505,'लॉग'!$C$6:$C$505,$A13,'लॉग'!$A$6:$A$505,">="&DATE($B$5,6,1),'लॉग'!$A$6:$A$505,"<"&DATE($B$5+0,7,1))) | H13: =IF($A13="","",SUMIFS('लॉग'!$D$6:$D$505,'लॉग'!$C$6:$C$505,$A13,'लॉग'!$A$6:$A$505,">="&DATE($B$5,7,1),'लॉग'!$A$6:$A$505,"<"&DATE($B$5+0,8,1))) | I13: =IF($A13="","",SUMIFS('लॉग'!$D$6:$D$505,'लॉग'!$C$6:$C$505,$A13,'लॉग'!$A$6:$A$505,">="&DATE($B$5,8,1),'लॉग'!$A$6:$A$505,"<"&DATE($B$5+0,9,1))) | J13: =IF($A13="","",SUMIFS('लॉग'!$D$6:$D$505,'लॉग'!$C$6:$C$505,$A13,'लॉग'!$A$6:$A$505,">="&DATE($B$5,9,1),'लॉग'!$A$6:$A$505,"<"&DATE($B$5+0,10,1))) | K13: =IF($A13="","",SUMIFS('लॉग'!$D$6:$D$505,'लॉग'!$C$6:$C$505,$A13,'लॉग'!$A$6:$A$505,">="&DATE($B$5,10,1),'लॉग'!$A$6:$A$505,"<"&DATE($B$5+0,11,1))) | L13: =IF($A13="","",SUMIFS('लॉग'!$D$6:$D$505,'लॉग'!$C$6:$C$505,$A13,'लॉग'!$A$6:$A$505,">="&DATE($B$5,11,1),'लॉग'!$A$6:$A$505,"<"&DATE($B$5+0,12,1))) | M13: =IF($A13="","",SUMIFS('लॉग'!$D$6:$D$505,'लॉग'!$C$6:$C$505,$A13,'लॉग'!$A$6:$A$505,">="&DATE($B$5,12,1),'लॉग'!$A$6:$A$505,"<"&DATE($B$5+1,1,1))) | N13: =IF($A13="","",SUM(B13:M13)) | O13: =IF(OR($A13="",$N$48=0),"",N13/$N$48)
A14: =IF('श्रेणियाँ'!A8="","",'श्रेणियाँ'!A8) | B14: =IF($A14="","",SUMIFS('लॉग'!$D$6:$D$505,'लॉग'!$C$6:$C$505,$A14,'लॉग'!$A$6:$A$505,">="&DATE($B$5,1,1),'लॉग'!$A$6:$A$505,"<"&DATE($B$5+0,2,1))) | C14: =IF($A14="","",SUMIFS('लॉग'!$D$6:$D$505,'लॉग'!$C$6:$C$505,$A14,'लॉग'!$A$6:$A$505,">="&DATE($B$5,2,1),'लॉग'!$A$6:$A$505,"<"&DATE($B$5+0,3,1))) | D14: =IF($A14="","",SUMIFS('लॉग'!$D$6:$D$505,'लॉग'!$C$6:$C$505,$A14,'लॉग'!$A$6:$A$505,">="&DATE($B$5,3,1),'लॉग'!$A$6:$A$505,"<"&DATE($B$5+0,4,1))) | E14: =IF($A14="","",SUMIFS('लॉग'!$D$6:$D$505,'लॉग'!$C$6:$C$505,$A14,'लॉग'!$A$6:$A$505,">="&DATE($B$5,4,1),'लॉग'!$A$6:$A$505,"<"&DATE($B$5+0,5,1))) | F14: =IF($A14="","",SUMIFS('लॉग'!$D$6:$D$505,'लॉग'!$C$6:$C$505,$A14,'लॉग'!$A$6:$A$505,">="&DATE($B$5,5,1),'लॉग'!$A$6:$A$505,"<"&DATE($B$5+0,6,1))) | G14: =IF($A14="","",SUMIFS('लॉग'!$D$6:$D$505,'लॉग'!$C$6:$C$505,$A14,'लॉग'!$A$6:$A$505,">="&DATE($B$5,6,1),'लॉग'!$A$6:$A$505,"<"&DATE($B$5+0,7,1))) | H14: =IF($A14="","",SUMIFS('लॉग'!$D$6:$D$505,'लॉग'!$C$6:$C$505,$A14,'लॉग'!$A$6:$A$505,">="&DATE($B$5,7,1),'लॉग'!$A$6:$A$505,"<"&DATE($B$5+0,8,1))) | I14: =IF($A14="","",SUMIFS('लॉग'!$D$6:$D$505,'लॉग'!$C$6:$C$505,$A14,'लॉग'!$A$6:$A$505,">="&DATE($B$5,8,1),'लॉग'!$A$6:$A$505,"<"&DATE($B$5+0,9,1))) | J14: =IF($A14="","",SUMIFS('लॉग'!$D$6:$D$505,'लॉग'!$C$6:$C$505,$A14,'लॉग'!$A$6:$A$505,">="&DATE($B$5,9,1),'लॉग'!$A$6:$A$505,"<"&DATE($B$5+0,10,1))) | K14: =IF($A14="","",SUMIFS('लॉग'!$D$6:$D$505,'लॉग'!$C$6:$C$505,$A14,'लॉग'!$A$6:$A$505,">="&DATE($B$5,10,1),'लॉग'!$A$6:$A$505,"<"&DATE($B$5+0,11,1))) | L14: =IF($A14="","",SUMIFS('लॉग'!$D$6:$D$505,'लॉग'!$C$6:$C$505,$A14,'लॉग'!$A$6:$A$505,">="&DATE($B$5,11,1),'लॉग'!$A$6:$A$505,"<"&DATE($B$5+0,12,1))) | M14: =IF($A14="","",SUMIFS('लॉग'!$D$6:$D$505,'लॉग'!$C$6:$C$505,$A14,'लॉग'!$A$6:$A$505,">="&DATE($B$5,12,1),'लॉग'!$A$6:$A$505,"<"&DATE($B$5+1,1,1))) | N14: =IF($A14="","",SUM(B14:M14)) | O14: =IF(OR($A14="",$N$48=0),"",N14/$N$48)
A15: =IF('श्रेणियाँ'!A9="","",'श्रेणियाँ'!A9) | B15: =IF($A15="","",SUMIFS('लॉग'!$D$6:$D$505,'लॉग'!$C$6:$C$505,$A15,'लॉग'!$A$6:$A$505,">="&DATE($B$5,1,1),'लॉग'!$A$6:$A$505,"<"&DATE($B$5+0,2,1))) | C15: =IF($A15="","",SUMIFS('लॉग'!$D$6:$D$505,'लॉग'!$C$6:$C$505,$A15,'लॉग'!$A$6:$A$505,">="&DATE($B$5,2,1),'लॉग'!$A$6:$A$505,"<"&DATE($B$5+0,3,1))) | D15: =IF($A15="","",SUMIFS('लॉग'!$D$6:$D$505,'लॉग'!$C$6:$C$505,$A15,'लॉग'!$A$6:$A$505,">="&DATE($B$5,3,1),'लॉग'!$A$6:$A$505,"<"&DATE($B$5+0,4,1))) | E15: =IF($A15="","",SUMIFS('लॉग'!$D$6:$D$505,'लॉग'!$C$6:$C$505,$A15,'लॉग'!$A$6:$A$505,">="&DATE($B$5,4,1),'लॉग'!$A$6:$A$505,"<"&DATE($B$5+0,5,1))) | F15: =IF($A15="","",SUMIFS('लॉग'!$D$6:$D$505,'लॉग'!$C$6:$C$505,$A15,'लॉग'!$A$6:$A$505,">="&DATE($B$5,5,1),'लॉग'!$A$6:$A$505,"<"&DATE($B$5+0,6,1))) | G15: =IF($A15="","",SUMIFS('लॉग'!$D$6:$D$505,'लॉग'!$C$6:$C$505,$A15,'लॉग'!$A$6:$A$505,">="&DATE($B$5,6,1),'लॉग'!$A$6:$A$505,"<"&DATE($B$5+0,7,1))) | H15: =IF($A15="","",SUMIFS('लॉग'!$D$6:$D$505,'लॉग'!$C$6:$C$505,$A15,'लॉग'!$A$6:$A$505,">="&DATE($B$5,7,1),'लॉग'!$A$6:$A$505,"<"&DATE($B$5+0,8,1))) | I15: =IF($A15="","",SUMIFS('लॉग'!$D$6:$D$505,'लॉग'!$C$6:$C$505,$A15,'लॉग'!$A$6:$A$505,">="&DATE($B$5,8,1),'लॉग'!$A$6:$A$505,"<"&DATE($B$5+0,9,1))) | J15: =IF($A15="","",SUMIFS('लॉग'!$D$6:$D$505,'लॉग'!$C$6:$C$505,$A15,'लॉग'!$A$6:$A$505,">="&DATE($B$5,9,1),'लॉग'!$A$6:$A$505,"<"&DATE($B$5+0,10,1))) | K15: =IF($A15="","",SUMIFS('लॉग'!$D$6:$D$505,'लॉग'!$C$6:$C$505,$A15,'लॉग'!$A$6:$A$505,">="&DATE($B$5,10,1),'लॉग'!$A$6:$A$505,"<"&DATE($B$5+0,11,1))) | L15: =IF($A15="","",SUMIFS('लॉग'!$D$6:$D$505,'लॉग'!$C$6:$C$505,$A15,'लॉग'!$A$6:$A$505,">="&DATE($B$5,11,1),'लॉग'!$A$6:$A$505,"<"&DATE($B$5+0,12,1))) | M15: =IF($A15="","",SUMIFS('लॉग'!$D$6:$D$505,'लॉग'!$C$6:$C$505,$A15,'लॉग'!$A$6:$A$505,">="&DATE($B$5,12,1),'लॉग'!$A$6:$A$505,"<"&DATE($B$5+1,1,1))) | N15: =IF($A15="","",SUM(B15:M15)) | O15: =IF(OR($A15="",$N$48=0),"",N15/$N$48)
A16: =IF('श्रेणियाँ'!A10="","",'श्रेणियाँ'!A10) | B16: =IF($A16="","",SUMIFS('लॉग'!$D$6:$D$505,'लॉग'!$C$6:$C$505,$A16,'लॉग'!$A$6:$A$505,">="&DATE($B$5,1,1),'लॉग'!$A$6:$A$505,"<"&DATE($B$5+0,2,1))) | C16: =IF($A16="","",SUMIFS('लॉग'!$D$6:$D$505,'लॉग'!$C$6:$C$505,$A16,'लॉग'!$A$6:$A$505,">="&DATE($B$5,2,1),'लॉग'!$A$6:$A$505,"<"&DATE($B$5+0,3,1))) | D16: =IF($A16="","",SUMIFS('लॉग'!$D$6:$D$505,'लॉग'!$C$6:$C$505,$A16,'लॉग'!$A$6:$A$505,">="&DATE($B$5,3,1),'लॉग'!$A$6:$A$505,"<"&DATE($B$5+0,4,1))) | E16: =IF($A16="","",SUMIFS('लॉग'!$D$6:$D$505,'लॉग'!$C$6:$C$505,$A16,'लॉग'!$A$6:$A$505,">="&DATE($B$5,4,1),'लॉग'!$A$6:$A$505,"<"&DATE($B$5+0,5,1))) | F16: =IF($A16="","",SUMIFS('लॉग'!$D$6:$D$505,'लॉग'!$C$6:$C$505,$A16,'लॉग'!$A$6:$A$505,">="&DATE($B$5,5,1),'लॉग'!$A$6:$A$505,"<"&DATE($B$5+0,6,1))) | G16: =IF($A16="","",SUMIFS('लॉग'!$D$6:$D$505,'लॉग'!$C$6:$C$505,$A16,'लॉग'!$A$6:$A$505,">="&DATE($B$5,6,1),'लॉग'!$A$6:$A$505,"<"&DATE($B$5+0,7,1))) | H16: =IF($A16="","",SUMIFS('लॉग'!$D$6:$D$505,'लॉग'!$C$6:$C$505,$A16,'लॉग'!$A$6:$A$505,">="&DATE($B$5,7,1),'लॉग'!$A$6:$A$505,"<"&DATE($B$5+0,8,1))) | I16: =IF($A16="","",SUMIFS('लॉग'!$D$6:$D$505,'लॉग'!$C$6:$C$505,$A16,'लॉग'!$A$6:$A$505,">="&DATE($B$5,8,1),'लॉग'!$A$6:$A$505,"<"&DATE($B$5+0,9,1))) | J16: =IF($A16="","",SUMIFS('लॉग'!$D$6:$D$505,'लॉग'!$C$6:$C$505,$A16,'लॉग'!$A$6:$A$505,">="&DATE($B$5,9,1),'लॉग'!$A$6:$A$505,"<"&DATE($B$5+0,10,1))) | K16: =IF($A16="","",SUMIFS('लॉग'!$D$6:$D$505,'लॉग'!$C$6:$C$505,$A16,'लॉग'!$A$6:$A$505,">="&DATE($B$5,10,1),'लॉग'!$A$6:$A$505,"<"&DATE($B$5+0,11,1))) | L16: =IF($A16="","",SUMIFS('लॉग'!$D$6:$D$505,'लॉग'!$C$6:$C$505,$A16,'लॉग'!$A$6:$A$505,">="&DATE($B$5,11,1),'लॉग'!$A$6:$A$505,"<"&DATE($B$5+0,12,1))) | M16: =IF($A16="","",SUMIFS('लॉग'!$D$6:$D$505,'लॉग'!$C$6:$C$505,$A16,'लॉग'!$A$6:$A$505,">="&DATE($B$5,12,1),'लॉग'!$A$6:$A$505,"<"&DATE($B$5+1,1,1))) | N16: =IF($A16="","",SUM(B16:M16)) | O16: =IF(OR($A16="",$N$48=0),"",N16/$N$48)
A17: =IF('श्रेणियाँ'!A11="","",'श्रेणियाँ'!A11) | B17: =IF($A17="","",SUMIFS('लॉग'!$D$6:$D$505,'लॉग'!$C$6:$C$505,$A17,'लॉग'!$A$6:$A$505,">="&DATE($B$5,1,1),'लॉग'!$A$6:$A$505,"<"&DATE($B$5+0,2,1))) | C17: =IF($A17="","",SUMIFS('लॉग'!$D$6:$D$505,'लॉग'!$C$6:$C$505,$A17,'लॉग'!$A$6:$A$505,">="&DATE($B$5,2,1),'लॉग'!$A$6:$A$505,"<"&DATE($B$5+0,3,1))) | D17: =IF($A17="","",SUMIFS('लॉग'!$D$6:$D$505,'लॉग'!$C$6:$C$505,$A17,'लॉग'!$A$6:$A$505,">="&DATE($B$5,3,1),'लॉग'!$A$6:$A$505,"<"&DATE($B$5+0,4,1))) | E17: =IF($A17="","",SUMIFS('लॉग'!$D$6:$D$505,'लॉग'!$C$6:$C$505,$A17,'लॉग'!$A$6:$A$505,">="&DATE($B$5,4,1),'लॉग'!$A$6:$A$505,"<"&DATE($B$5+0,5,1))) | F17: =IF($A17="","",SUMIFS('लॉग'!$D$6:$D$505,'लॉग'!$C$6:$C$505,$A17,'लॉग'!$A$6:$A$505,">="&DATE($B$5,5,1),'लॉग'!$A$6:$A$505,"<"&DATE($B$5+0,6,1))) | G17: =IF($A17="","",SUMIFS('लॉग'!$D$6:$D$505,'लॉग'!$C$6:$C$505,$A17,'लॉग'!$A$6:$A$505,">="&DATE($B$5,6,1),'लॉग'!$A$6:$A$505,"<"&DATE($B$5+0,7,1))) | H17: =IF($A17="","",SUMIFS('लॉग'!$D$6:$D$505,'लॉग'!$C$6:$C$505,$A17,'लॉग'!$A$6:$A$505,">="&DATE($B$5,7,1),'लॉग'!$A$6:$A$505,"<"&DATE($B$5+0,8,1))) | I17: =IF($A17="","",SUMIFS('लॉग'!$D$6:$D$505,'लॉग'!$C$6:$C$505,$A17,'लॉग'!$A$6:$A$505,">="&DATE($B$5,8,1),'लॉग'!$A$6:$A$505,"<"&DATE($B$5+0,9,1))) | J17: =IF($A17="","",SUMIFS('लॉग'!$D$6:$D$505,'लॉग'!$C$6:$C$505,$A17,'लॉग'!$A$6:$A$505,">="&DATE($B$5,9,1),'लॉग'!$A$6:$A$505,"<"&DATE($B$5+0,10,1))) | K17: =IF($A17="","",SUMIFS('लॉग'!$D$6:$D$505,'लॉग'!$C$6:$C$505,$A17,'लॉग'!$A$6:$A$505,">="&DATE($B$5,10,1),'लॉग'!$A$6:$A$505,"<"&DATE($B$5+0,11,1))) | L17: =IF($A17="","",SUMIFS('लॉग'!$D$6:$D$505,'लॉग'!$C$6:$C$505,$A17,'लॉग'!$A$6:$A$505,">="&DATE($B$5,11,1),'लॉग'!$A$6:$A$505,"<"&DATE($B$5+0,12,1))) | M17: =IF($A17="","",SUMIFS('लॉग'!$D$6:$D$505,'लॉग'!$C$6:$C$505,$A17,'लॉग'!$A$6:$A$505,">="&DATE($B$5,12,1),'लॉग'!$A$6:$A$505,"<"&DATE($B$5+1,1,1))) | N17: =IF($A17="","",SUM(B17:M17)) | O17: =IF(OR($A17="",$N$48=0),"",N17/$N$48)
A18: =IF('श्रेणियाँ'!A12="","",'श्रेणियाँ'!A12) | B18: =IF($A18="","",SUMIFS('लॉग'!$D$6:$D$505,'लॉग'!$C$6:$C$505,$A18,'लॉग'!$A$6:$A$505,">="&DATE($B$5,1,1),'लॉग'!$A$6:$A$505,"<"&DATE($B$5+0,2,1))) | C18: =IF($A18="","",SUMIFS('लॉग'!$D$6:$D$505,'लॉग'!$C$6:$C$505,$A18,'लॉग'!$A$6:$A$505,">="&DATE($B$5,2,1),'लॉग'!$A$6:$A$505,"<"&DATE($B$5+0,3,1))) | D18: =IF($A18="","",SUMIFS('लॉग'!$D$6:$D$505,'लॉग'!$C$6:$C$505,$A18,'लॉग'!$A$6:$A$505,">="&DATE($B$5,3,1),'लॉग'!$A$6:$A$505,"<"&DATE($B$5+0,4,1))) | E18: =IF($A18="","",SUMIFS('लॉग'!$D$6:$D$505,'लॉग'!$C$6:$C$505,$A18,'लॉग'!$A$6:$A$505,">="&DATE($B$5,4,1),'लॉग'!$A$6:$A$505,"<"&DATE($B$5+0,5,1))) | F18: =IF($A18="","",SUMIFS('लॉग'!$D$6:$D$505,'लॉग'!$C$6:$C$505,$A18,'लॉग'!$A$6:$A$505,">="&DATE($B$5,5,1),'लॉग'!$A$6:$A$505,"<"&DATE($B$5+0,6,1))) | G18: =IF($A18="","",SUMIFS('लॉग'!$D$6:$D$505,'लॉग'!$C$6:$C$505,$A18,'लॉग'!$A$6:$A$505,">="&DATE($B$5,6,1),'लॉग'!$A$6:$A$505,"<"&DATE($B$5+0,7,1))) | H18: =IF($A18="","",SUMIFS('लॉग'!$D$6:$D$505,'लॉग'!$C$6:$C$505,$A18,'लॉग'!$A$6:$A$505,">="&DATE($B$5,7,1),'लॉग'!$A$6:$A$505,"<"&DATE($B$5+0,8,1))) | I18: =IF($A18="","",SUMIFS('लॉग'!$D$6:$D$505,'लॉग'!$C$6:$C$505,$A18,'लॉग'!$A$6:$A$505,">="&DATE($B$5,8,1),'लॉग'!$A$6:$A$505,"<"&DATE($B$5+0,9,1))) | J18: =IF($A18="","",SUMIFS('लॉग'!$D$6:$D$505,'लॉग'!$C$6:$C$505,$A18,'लॉग'!$A$6:$A$505,">="&DATE($B$5,9,1),'लॉग'!$A$6:$A$505,"<"&DATE($B$5+0,10,1))) | K18: =IF($A18="","",SUMIFS('लॉग'!$D$6:$D$505,'लॉग'!$C$6:$C$505,$A18,'लॉग'!$A$6:$A$505,">="&DATE($B$5,10,1),'लॉग'!$A$6:$A$505,"<"&DATE($B$5+0,11,1))) | L18: =IF($A18="","",SUMIFS('लॉग'!$D$6:$D$505,'लॉग'!$C$6:$C$505,$A18,'लॉग'!$A$6:$A$505,">="&DATE($B$5,11,1),'लॉग'!$A$6:$A$505,"<"&DATE($B$5+0,12,1))) | M18: =IF($A18="","",SUMIFS('लॉग'!$D$6:$D$505,'लॉग'!$C$6:$C$505,$A18,'लॉग'!$A$6:$A$505,">="&DATE($B$5,12,1),'लॉग'!$A$6:$A$505,"<"&DATE($B$5+1,1,1))) | N18: =IF($A18="","",SUM(B18:M18)) | O18: =IF(OR($A18="",$N$48=0),"",N18/$N$48)
A19: =IF('श्रेणियाँ'!A13="","",'श्रेणियाँ'!A13) | B19: =IF($A19="","",SUMIFS('लॉग'!$D$6:$D$505,'लॉग'!$C$6:$C$505,$A19,'लॉग'!$A$6:$A$505,">="&DATE($B$5,1,1),'लॉग'!$A$6:$A$505,"<"&DATE($B$5+0,2,1))) | C19: =IF($A19="","",SUMIFS('लॉग'!$D$6:$D$505,'लॉग'!$C$6:$C$505,$A19,'लॉग'!$A$6:$A$505,">="&DATE($B$5,2,1),'लॉग'!$A$6:$A$505,"<"&DATE($B$5+0,3,1))) | D19: =IF($A19="","",SUMIFS('लॉग'!$D$6:$D$505,'लॉग'!$C$6:$C$505,$A19,'लॉग'!$A$6:$A$505,">="&DATE($B$5,3,1),'लॉग'!$A$6:$A$505,"<"&DATE($B$5+0,4,1))) | E19: =IF($A19="","",SUMIFS('लॉग'!$D$6:$D$505,'लॉग'!$C$6:$C$505,$A19,'लॉग'!$A$6:$A$505,">="&DATE($B$5,4,1),'लॉग'!$A$6:$A$505,"<"&DATE($B$5+0,5,1))) | F19: =IF($A19="","",SUMIFS('लॉग'!$D$6:$D$505,'लॉग'!$C$6:$C$505,$A19,'लॉग'!$A$6:$A$505,">="&DATE($B$5,5,1),'लॉग'!$A$6:$A$505,"<"&DATE($B$5+0,6,1))) | G19: =IF($A19="","",SUMIFS('लॉग'!$D$6:$D$505,'लॉग'!$C$6:$C$505,$A19,'लॉग'!$A$6:$A$505,">="&DATE($B$5,6,1),'लॉग'!$A$6:$A$505,"<"&DATE($B$5+0,7,1))) | H19: =IF($A19="","",SUMIFS('लॉग'!$D$6:$D$505,'लॉग'!$C$6:$C$505,$A19,'लॉग'!$A$6:$A$505,">="&DATE($B$5,7,1),'लॉग'!$A$6:$A$505,"<"&DATE($B$5+0,8,1))) | I19: =IF($A19="","",SUMIFS('लॉग'!$D$6:$D$505,'लॉग'!$C$6:$C$505,$A19,'लॉग'!$A$6:$A$505,">="&DATE($B$5,8,1),'लॉग'!$A$6:$A$505,"<"&DATE($B$5+0,9,1))) | J19: =IF($A19="","",SUMIFS('लॉग'!$D$6:$D$505,'लॉग'!$C$6:$C$505,$A19,'लॉग'!$A$6:$A$505,">="&DATE($B$5,9,1),'लॉग'!$A$6:$A$505,"<"&DATE($B$5+0,10,1))) | K19: =IF($A19="","",SUMIFS('लॉग'!$D$6:$D$505,'लॉग'!$C$6:$C$505,$A19,'लॉग'!$A$6:$A$505,">="&DATE($B$5,10,1),'लॉग'!$A$6:$A$505,"<"&DATE($B$5+0,11,1))) | L19: =IF($A19="","",SUMIFS('लॉग'!$D$6:$D$505,'लॉग'!$C$6:$C$505,$A19,'लॉग'!$A$6:$A$505,">="&DATE($B$5,11,1),'लॉग'!$A$6:$A$505,"<"&DATE($B$5+0,12,1))) | M19: =IF($A19="","",SUMIFS('लॉग'!$D$6:$D$505,'लॉग'!$C$6:$C$505,$A19,'लॉग'!$A$6:$A$505,">="&DATE($B$5,12,1),'लॉग'!$A$6:$A$505,"<"&DATE($B$5+1,1,1))) | N19: =IF($A19="","",SUM(B19:M19)) | O19: =IF(OR($A19="",$N$48=0),"",N19/$N$48)
... A47: =IF('श्रेणियाँ'!A41="","",'श्रेणियाँ'!A41) | B47: =IF($A47="","",SUMIFS('लॉग'!$D$6:$D$505,'लॉग'!$C$6:$C$505,$A47,'लॉग'!$A$6:$A$505,">="&DATE($B$5,1,1),'लॉग'!$A$6:$A$505,"<"&DATE($B$5+0,2,1))) | C47: =IF($A47="","",SUMIFS('लॉग'!$D$6:$D$505,'लॉग'!$C$6:$C$505,$A47,'लॉग'!$A$6:$A$505,">="&DATE($B$5,2,1),'लॉग'!$A$6:$A$505,"<"&DATE($B$5+0,3,1))) | D47: =IF($A47="","",SUMIFS('लॉग'!$D$6:$D$505,'लॉग'!$C$6:$C$505,$A47,'लॉग'!$A$6:$A$505,">="&DATE($B$5,3,1),'लॉग'!$A$6:$A$505,"<"&DATE($B$5+0,4,1))) | E47: =IF($A47="","",SUMIFS('लॉग'!$D$6:$D$505,'लॉग'!$C$6:$C$505,$A47,'लॉग'!$A$6:$A$505,">="&DATE($B$5,4,1),'लॉग'!$A$6:$A$505,"<"&DATE($B$5+0,5,1))) | F47: =IF($A47="","",SUMIFS('लॉग'!$D$6:$D$505,'लॉग'!$C$6:$C$505,$A47,'लॉग'!$A$6:$A$505,">="&DATE($B$5,5,1),'लॉग'!$A$6:$A$505,"<"&DATE($B$5+0,6,1))) | G47: =IF($A47="","",SUMIFS('लॉग'!$D$6:$D$505,'लॉग'!$C$6:$C$505,$A47,'लॉग'!$A$6:$A$505,">="&DATE($B$5,6,1),'लॉग'!$A$6:$A$505,"<"&DATE($B$5+0,7,1))) | H47: =IF($A47="","",SUMIFS('लॉग'!$D$6:$D$505,'लॉग'!$C$6:$C$505,$A47,'लॉग'!$A$6:$A$505,">="&DATE($B$5,7,1),'लॉग'!$A$6:$A$505,"<"&DATE($B$5+0,8,1))) | I47: =IF($A47="","",SUMIFS('लॉग'!$D$6:$D$505,'लॉग'!$C$6:$C$505,$A47,'लॉग'!$A$6:$A$505,">="&DATE($B$5,8,1),'लॉग'!$A$6:$A$505,"<"&DATE($B$5+0,9,1))) | J47: =IF($A47="","",SUMIFS('लॉग'!$D$6:$D$505,'लॉग'!$C$6:$C$505,$A47,'लॉग'!$A$6:$A$505,">="&DATE($B$5,9,1),'लॉग'!$A$6:$A$505,"<"&DATE($B$5+0,10,1))) | K47: =IF($A47="","",SUMIFS('लॉग'!$D$6:$D$505,'लॉग'!$C$6:$C$505,$A47,'लॉग'!$A$6:$A$505,">="&DATE($B$5,10,1),'लॉग'!$A$6:$A$505,"<"&DATE($B$5+0,11,1))) | L47: =IF($A47="","",SUMIFS('लॉग'!$D$6:$D$505,'लॉग'!$C$6:$C$505,$A47,'लॉग'!$A$6:$A$505,">="&DATE($B$5,11,1),'लॉग'!$A$6:$A$505,"<"&DATE($B$5+0,12,1))) | M47: =IF($A47="","",SUMIFS('लॉग'!$D$6:$D$505,'लॉग'!$C$6:$C$505,$A47,'लॉग'!$A$6:$A$505,">="&DATE($B$5,12,1),'लॉग'!$A$6:$A$505,"<"&DATE($B$5+1,1,1))) | N47: =IF($A47="","",SUM(B47:M47)) | O47: =IF(OR($A47="",$N$48=0),"",N47/$N$48)
A48: कुल | B48: =SUM(B8:B47) | C48: =SUM(C8:C47) | D48: =SUM(D8:D47) | E48: =SUM(E8:E47) | F48: =SUM(F8:F47) | G48: =SUM(G8:G47) | H48: =SUM(H8:H47) | I48: =SUM(I8:I47) | ... N48: =SUM(N8:N47)

Sheet श्रेणियाँ
A1: श्रेणी
A2: राशन
A3: बाहर खाना
A4: आवास
A5: बिजली-पानी
A6: आना-जाना
A7: सेहत
A8: शॉपिंग
A9: मनोरंजन
A10: यात्रा
A11: पढ़ाई
A12: तोहफ़े
... A16: अन्य
