Workbook

Sheet Bütçe
A1: Aylık bütçe planlayıcı
A2: abacurio.com'dan ücretsiz şablon
A3: Sarı hücreleri doldurun. Gerisi sizin için hesaplanır. Örnek değerler girildi — kendi değerlerinizle değiştirin.
H4: 50/30/20 kontrolü
A5: Gelir | C5: Planlanan | D5: Gerçekleşen | E5: Fark | H5: Tür | I5: Hedef | J5: Sizinki | K5: İhtiyaç
A6: Maaş | C6: 4200 | D6: 4200 | E6: =D6-C6 | H6: =K5 | I6: 0.5 | J6: =IF($D$11>0,SUMIF($B$14:$B$38,H6,$D$14:$D$38)/$D$11,"") | K6: İstek
A7: Eşin maaşı | C7: 0 | D7: 0 | E7: =D7-C7 | H7: =K6 | I7: 0.3 | J7: =IF($D$11>0,SUMIF($B$14:$B$38,H7,$D$14:$D$38)/$D$11,"") | K7: Birikim
A8: Ek gelir | C8: 800 | D8: 650 | E8: =D8-C8 | H8: =K7 | I8: 0.2 | J8: =IF($D$11>0,SUMIF($B$14:$B$38,H8,$D$14:$D$38)/$D$11,"")
A9: Yardımlar | C9: 0 | D9: 0 | E9: =D9-C9
A10: Diğer gelirler | C10: 0 | D10: 0 | E10: =D10-C10
A11: Toplam gelir | C11: =SUM(C6:C10) | D11: =SUM(D6:D10) | E11: =SUM(E6:E10)
A13: Giderler | B13: Tür | C13: Planlanan | D13: Gerçekleşen | E13: Fark | F13: Gelirin %'si
A14: Kira veya konut kredisi | B14: İhtiyaç | C14: 1250 | D14: 1250 | E14: =C14-D14 | F14: =IF($D$11>0,D14/$D$11,"")
A15: Elektrik ve doğalgaz | B15: İhtiyaç | C15: 120 | D15: 134 | E15: =C15-D15 | F15: =IF($D$11>0,D15/$D$11,"")
A16: Su | B16: İhtiyaç | C16: 35 | D16: 35 | E16: =C16-D16 | F16: =IF($D$11>0,D16/$D$11,"")
A17: İnternet ve telefon | B17: İhtiyaç | C17: 60 | D17: 60 | E17: =C17-D17 | F17: =IF($D$11>0,D17/$D$11,"")
A18: Market | B18: İhtiyaç | C18: 520 | D18: 566 | E18: =C18-D18 | F18: =IF($D$11>0,D18/$D$11,"")
A19: Ulaşım ve yakıt | B19: İhtiyaç | C19: 180 | D19: 162 | E19: =C19-D19 | F19: =IF($D$11>0,D19/$D$11,"")
A20: Araç taksiti | B20: İhtiyaç | C20: 0 | D20: 0 | E20: =C20-D20 | F20: =IF($D$11>0,D20/$D$11,"")
A21: Sigorta | B21: İhtiyaç | C21: 90 | D21: 90 | E21: =C21-D21 | F21: =IF($D$11>0,D21/$D$11,"")
A22: Sağlık | B22: İhtiyaç | C22: 40 | D22: 22 | E22: =C22-D22 | F22: =IF($D$11>0,D22/$D$11,"")
A23: Çocuk bakımı ve okul | B23: İhtiyaç | C23: 0 | D23: 0 | E23: =C23-D23 | F23: =IF($D$11>0,D23/$D$11,"")
A24: Asgari borç ödemeleri | B24: İhtiyaç | C24: 150 | D24: 150 | E24: =C24-D24 | F24: =IF($D$11>0,D24/$D$11,"")
A25: Dışarıda yemek | B25: İstek | C25: 160 | D25: 205 | E25: =C25-D25 | F25: =IF($D$11>0,D25/$D$11,"")
... A38: Birikim hedefleri | B38: Birikim | C38: 100 | D38: 150 | E38: =C38-D38 | F38: =IF($D$11>0,D38/$D$11,"")
A39: Toplam harcama | C39: =SUM(C14:C38) | D39: =SUM(D14:D38) | E39: =SUM(E14:E38) | F39: =IF($D$11>0,D39/$D$11,"")
A40: Kalan | C40: =C11-C39 | D40: =D11-D39

Sheet Yıl
A1: Aylık bütçe planlayıcı — Yıl
A2: abacurio.com'dan ücretsiz şablon
A3: Sarı hücreleri doldurun. Gerisi sizin için hesaplanır. Örnek değerler girildi — kendi değerlerinizle değiştirin.
A5: Kategori | B5: Oca | C5: Şub | D5: Mar | E5: Nis | F5: May | G5: Haz | H5: Tem | I5: Ağu | J5: Eyl | K5: Eki | L5: Kas | M5: Ara | N5: Toplam
A6: Toplam gelir | B6: ='Bütçe'!D11 | N6: =SUM(B6:M6)
A7: ='Bütçe'!A14 | B7: ='Bütçe'!D14 | N7: =SUM(B7:M7)
A8: ='Bütçe'!A15 | B8: ='Bütçe'!D15 | N8: =SUM(B8:M8)
A9: ='Bütçe'!A16 | B9: ='Bütçe'!D16 | N9: =SUM(B9:M9)
A10: ='Bütçe'!A17 | B10: ='Bütçe'!D17 | N10: =SUM(B10:M10)
A11: ='Bütçe'!A18 | B11: ='Bütçe'!D18 | N11: =SUM(B11:M11)
A12: ='Bütçe'!A19 | B12: ='Bütçe'!D19 | N12: =SUM(B12:M12)
A13: ='Bütçe'!A20 | B13: ='Bütçe'!D20 | N13: =SUM(B13:M13)
A14: ='Bütçe'!A21 | B14: ='Bütçe'!D21 | N14: =SUM(B14:M14)
A15: ='Bütçe'!A22 | B15: ='Bütçe'!D22 | N15: =SUM(B15:M15)
A16: ='Bütçe'!A23 | B16: ='Bütçe'!D23 | N16: =SUM(B16:M16)
A17: ='Bütçe'!A24 | B17: ='Bütçe'!D24 | N17: =SUM(B17:M17)
A18: ='Bütçe'!A25 | B18: ='Bütçe'!D25 | N18: =SUM(B18:M18)
... A31: ='Bütçe'!A38 | B31: ='Bütçe'!D38 | N31: =SUM(B31:M31)
A32: Toplam harcama | B32: =SUM(B7:B31) | C32: =SUM(C7:C31) | D32: =SUM(D7:D31) | E32: =SUM(E7:E31) | F32: =SUM(F7:F31) | G32: =SUM(G7:G31) | H32: =SUM(H7:H31) | I32: =SUM(I7:I31) | ... N32: =SUM(N7:N31)
A33: Kalan | B33: =IF(B6="","",B6-B32) | C33: =IF(C6="","",C6-C32) | D33: =IF(D6="","",D6-D32) | E33: =IF(E6="","",E6-E32) | F33: =IF(F6="","",F6-F32) | G33: =IF(G6="","",G6-G32) | H33: =IF(H6="","",H6-H32) | I33: =IF(I6="","",I6-I32) | ... N33: =IF(N6="","",N6-N32)
